BEGIN:VCALENDAR
VERSION:2.0
PRODID:icalendar-ruby
CALSCALE:GREGORIAN
METHOD:PUBLISH
BEGIN:VEVENT
DTSTAMP:20260424T130804Z
UID:https://foxyladyultimate.com/games/683
DTSTART:20260426T100000
DURATION:PT2H
LOCATION:Centennial Campus Middle School
SEQUENCE:37380
STATUS:TENTATIVE
SUMMARY:Ultimate Frisbee
TRANSP:OPAQUE
URL;VALUE=URI:https://foxyladyultimate.com/games/683
END:VEVENT
END:VCALENDAR
